Workbook
Name __xlnm.Print_Area: #REF!
Name __xlnm.Print_Area: #REF!
Name __xlnm.Print_Area: 'Annex-A'!$A$1:$I$47
Name __xlnm.Print_Area_1: #REF!
Name __xlnm.Print_Area_1: #REF!
Name __xlnm.Print_Area_1: 'Annex-B'!$A$1:$G$82
Name __xlnm.Print_Area_2: #REF!
Name __xlnm.Print_Area_2: #REF!
Name __xlnm.Print_Area_2: 'Annex-C'!$A$1:$E$48
Name __xlnm.Print_Area_3: #REF!
Name __xlnm.Print_Area_3: #REF!
Name __xlnm.Print_Area_3: 'Annex-D'!$A$1:$O$28
Name __xlnm.Print_Area_4: #REF!
Name __xlnm.Print_Area_4: #REF!
Name __xlnm.Print_Area_4: 'Annex-E'!$A$1:$I$32
Name __xlnm.Print_Area_5: #REF!
Name __xlnm.Print_Area_5: #REF!
Name __xlnm.Print_Area_5: 'Annex-F'!$A$1:$F$28
Name __xlnm.Print_Area_6: #REF!
Name __xlnm.Print_Area_6: #REF!
Name __xlnm.Print_Area_6: 'IND (BUS PLUS)'!$A$2:$H$175
Name __xlnm.Print_Area_7: #REF!
Name __xlnm.Print_Area_7: #REF!
Name __xlnm.Print_Area_7: #REF!
Name __xlnm.Print_Area_7: #REF!
Name __xlnm.Print_Area_7: #REF!
Name __xlnm.Print_Area_7: #REF!
Name __xlnm.Print_Area_8: #REF!
Name __xlnm.Print_Area_8: #REF!
Name __xlnm.Print_Area_8: 'Wealth Statement'!$A$1:$J$175
Name ALL: [1]Electrical!$AJ$5:$AY$5
Name CNIC: #REF!
Name CNIC: #REF!
Name CNIC: 'IND (BUS PLUS)'!$C$5
Name ExemptIncome: #REF!
Name ExemptIncome: #REF!
Name ExemptIncome: "#REF!"
Name ExemptIncome_1: "#REF!"
Name ExemptIncome_2: "#REF!"
Name ExemptIncome_3: "#REF!"
Name ExemptIncome_4: "#REF!"
Name ExemptIncome_5: "#REF!"
Name ExemptIncome_6: "#REF!"
Name ExemptIncome_7: "#REF!"
Name Fourteen: '[2]IND (BUS PLUS)'!$C$4
Name Fourteen: '[3]IND (BUS PLUS)'!$C$4
Name Fourteen: '[3]IND (BUS PLUS)'!$C$4
Name Fourteen: '[4]IND (BUS PLUS)'!$C$4
Name Fourteen: '[4]IND (BUS PLUS)'!$C$4
Name Fourteen: 'IND (BUS PLUS)'!$C$5
Name ghgh: #REF!
Name ghgh: #REF!
Name ghgh: #REF!
Name MALIK: '[5]IND (BUS PLUS)'!$C$4
Name Salary: '[6]INDIVIDUAL-AOP (1 of 2)'!#REF!
Name Salary: '[7]IND-AOP (BUS PLUS)'!#REF!
Name Salary: "#REF!"
Name Salary_1: "#REF!"
Name Salary_2: #N/A
Name Salary_3: "#REF!"

Sheet Instructions
A1: Instructions for Filling in Return Form & Wealth Statement
A2: Form | B2: Sr. | C2: Instruction
A3: General | C3: The following persons are required to furnish a return of income for a tax year:
C4: (a) Every company;
C5: (b) Every person (other than a company) whose taxable income for the year exceeds PKR 400,000;
C6: (c) Every non-profit organization as defined in clause (36) of section 2;
C7: (d) Every welfare institution approved under clause (58) of Part I of the Second Schedule;
C8: (e) Every person who has been charged to tax in respect of any of the two preceding tax years;
C9: (f) Every person who claims a loss carried forward under this Ordinance for a tax year;
C10: (g) Every person who owns immovable property with a land area of two hundred and fifty square yards or more or owns any flat located in areas falling within the municipal limits existing immediately before the commencement of Local Government laws in the provinces; or areas in a Cantonment; or the Islamabad Capital Territory;
C11: (h) Every person who owns immoveable property with a land area of five hundred square yards or more located in a rating area;
C12: (i) Every person who owns a flat having covered area of two thousand square feet or more located in a rating area;
C13: (j) Every person who owns a motor vehicle having engine capacity above 1000 CC;
C14: (k) Every person who has obtained National Tax Number;
C15: (l) Every person who is the holder of commercial or industrial connection of electricity where the amount of annual bill exceeds rupees five hundred thousand;
... C33: Tax can be paid in any authorized branch of NBP & SBP at any time before filing of return. List of authorized braches of NBP & SBP can be downloaded from http://www.fbr.gov.pk.
A34: IT-1B | B34: 13 | C34: Only Foreign Income (Not Loss) should be declared.
A35: IT-2 | B35: 14
A36: IT-1B | B36: 48 | C36: Only Agriculture Income (Not Loss) should be declared.
A37: IT-2 | B37: 45
A38: IT-1B | B38: 26 | C38: Tax Credits include Tax Credits for the following:
A39: IT-2 | B39: 28
C40: Share in Taxed Income from AOP;
C41: Charitable Donations u/s 61;
C42: Investment in Shares of Public Companies listed on a Stock Exchange in Pakistan (only for Original Allottee other than a Company) u/s 62;
C43: Life Insurance Premim (only for Resident Individual deriving income from Salary / Business) u/s 62;
C44: Contribution to Approved Pension Fund (only for Pakistani Individual registered with FBR / NADRA deriving income from Salary / Business) u/s 63;
C45: Profit or Share in Rent or Share in Appreciation of Value of Property paid on loan invested in property u/s 64.
A46: Annex-E | C46: Taxpayers wanting to opt out of Presumptive Tax Regime (PTR) u/c (56B), (56C), (56D), (56E), (56F), (56G), Part IV, Second Schedule, must file Annex-E.
A47: Annex-F | C47: Only Personal / Household (Non-Business) expenses should be declared.
A48: Annex-F | B48: 18 | C48: Expenses borne by more than one person must be declared in total by each person. For example, if in one family more than one member is contibuting to expenses or if more than one family is living jointly & within each family more than one member is contributing to expenses, total expenses under each head must be declared by each member of each family filing his wealth statement & then contribution by other family members be deducted to arrive at own contribution.
A49: Wealth Statement | C49: If rows provided in any segment are inadequate, additional rows may be inserted.
A50: Wealth Statement | C50: All assets must be delared at cost, including ancillary expenses.
A51: Wealth Statement | C51: If an asset is acquired under a Hire Purchase Agreement, total price should be declared as asset under the appropriate head & balance payable amount should be declared as liability.
A52: Wealth Statement | C52: If Wealth Statement is filed for the first time, separate Reconciliation Statement must be filed for each previous year.
A53: Wealth Statement | B53: 4 | C53: Equipment, Plant, Machinery (Non-Business) must be declared with description, for example, Generator, Tubewell, Harvestor, Tractor, Trolley, etc.
A54: Wealth Statement | B54: 14 | C54: Assets created in the name of spouse(s), children & other dependents should be declared only if acquired by them with funds provided by you (Benami Assets).
A55: Wealth Statement | B55: 21 iv | C55: value of perquisites, 1/10 of goodwill from tenant, 1/10 of goodwill on vacating possession of property, repairs allowance, admissible / inadmissible deductions, brought forward losses, unabsorbed depreciation / amortization

Sheet DISCLAIMER
A1: DISCLAIMER:
A3: FBR has issued a S.R.O. 950(I)/2024 dated 4th JULY , 2024 in respect of Manual Income Tax Return Forms for the Tax Year 2024 The calculation in the Return of Income, Wealth Statement & Reconciliation for the Tax Year 2024 is prepared carefully and the calculation formula has been tested, while every effort has been made to avoid errors or omissions in the content, if any mistake, error or discrepancy is noticed, it may be brought to our notice for immediate correction. It is notified that WE will be not responsible for any loss or damage to any one, of any kind, in any manner, therefrom. Users are advised to verify the content from original Government Ordinance/Acts/Rules/Notifications etc. Any reliance you place on such information is therefore strictly at your own risk.
A6: CONTACT US:
A7: MUHAMMAD RAHIL IQBAL
A8: EMAIL: | B8: ibrahimkhan_co@yahoo.com

Sheet PROFILE
Q1: " Fill only blank yellow fields "
A3: Name (Ind./Managing Partner) | K3: MUHAMMAD RAHIL IQBAL | AN3: Status (I or A)
A4: Business Name | K4: RAHIL IQBAL & CO. | AN4: N.T.No. | AU4: -
A5: Business Address | K5: - | AN5: Reg. / CNIC No. | AU5: -
A6: Residential Address | K6: -
AN7: TAX YEAR | AU7: 2024

Sheet Work Sheet
B2: 1 | C2: Net Revenue | D2: =D3-D4 -> 0 | E2: =E3-E4 -> 0 | F2: =F3-F4 -> 0
B3: 2 | C3: Gross Revenue | D3: 0 | E3: 0 | F3: =D3-E3 -> 0 | H3: ADJUSTABLE TAXES
B4: 3 | C4: Selling Expenses (Freight Outward, Brokerage, Commission, Discount, etc.) | D4: 0 | E4: 0 | F4: =D4-E4 -> 0 | H4: ELECTRIC U/S. 235
B5: 4 | C5: Cost of Sales [3 + 4 + 5 - 6] | D5: =D6+D7+D8-D9 -> 0 | E5: =E6+E7+E8-E9 -> 0 | F5: =F6+F7+F8-F9 -> 0 | H5: TELEPHONE U/S. 236
B6: 5 | C6: Opening Stock | D6: 0 | E6: 0 | F6: =D6-E6 -> 0 | H6: ADVANCE TAX U/S. 147
B7: 6 | C7: Net Purchases | D7: 0 | E7: 0 | F7: =D7-E7 -> 0 | I7: =SUM(I4:I6) -> 0
B8: 7 | C8: Manufacturing / Trading Expenses | D8: 0 | E8: 0 | F8: =D8-E8 -> 0
B9: 8 | C9: Closing Stock | D9: 0 | E9: 0 | F9: =D9-E9 -> 0 | H9: FINAL & FIXED
B10: 9 | C10: Gross Profit/(Loss) [1 - 2] | D10: =D2-D5 -> 0 | E10: =E2-E5 -> 0 | F10: =F2-F5 -> 0 | H10: ELECTRIC U/S. 235 -COMM
B11: 10 | C11: Total Other Revenue | D11: =+D12+D13+D14 -> 0 | E11: =+E12+E13+E14 -> 0 | F11: =+F12+F13+F14 -> 0 | H11: ELECTRIC U/S. 235 -IND
B12: 11 | C12: Other Revenues / Fee / Charges
B13: 12 | C13: Accounting Gain on Sale of Intangibles
B14: 13 | C14: Accounting Gain on Sale of Assets | H14: PROFIT ON DEBT
B15: 14 | C15: Share in untaxed Income from AOP | H15: PROFIT U/S. 151
B16: 15 | C16: Share in Taxed Income from AOP
B17: 16 | C17: Profit & Loss Expenses | D17: =D53 -> 0 | E17: =E53 -> 0 | F17: =F53 -> 0
B18: 17 | C18: Net Profit / (Loss) [(7 + 8) - 9] | D18: =+D10+D11-D17 -> 0 | E18: =+E10+E11-E17 -> 0 | F18: =+F10+F11-F17 -> 0 | I18: =SUM(I15:I17) -> 0
D19: =D18-D52 -> 0
C21: BREAKUP OF EXPENSES
A22: Manufacturing & Trading Expenses | B22: S.# | C22: Description | D22: Amount | E22: Amount | F22: Amount
B23: 1 | C23: Salaries / Wages
B24: 2 | C24: Fuel
B25: 3 | C25: Power
B26: 4 | C26: Gas
B27: 5 | C27: Stores / Spares
B28: 6 | C28: Repair / Maintenance
B29: 7 | C29: Other Direct Expenses | D29: =+D8-SUM(D23:D28)-D30-D31 -> 0 | E29: =+E8-SUM(E23:E28)-E30-E31 -> 0 | F29: =+F8-SUM(F23:F28)-F30-F31 -> 0
B30: 8 | C30: Accounting Amortization
B31: 9 | C31: Accounting Depreciation
C32: Total (Add 1 to 9) | D32: =SUM(D23:D31) -> 0 | E32: =SUM(E23:E31) -> 0 | F32: =SUM(F23:F31) -> 0
A33: Profit & Loss Account Expenses | B33: 10 | C33: Rent
B34: 11 | C34: Rates / Taxes / Cess
B35: 12 | C35: Salaries / Wages / Perquisites / Benefits
B36: 13 | C36: Traveling / Conveyance / Vehicles Running / Maintenance
B37: 14 | C37: Electricity / Water / Gas
B38: 15 | C38: Communication
B39: 16 | C39: Repair / Maintenance
B40: 17 | C40: Stationery / Printing / Photocopies / Office Supplies
B41: 18 | C41: Advertisement / Publicity / Promotion
B42: 19 | C42: Insurance
...

Sheet IND (BUS PLUS)
A1: Individual Paper Return for Tax Year 2024
A2: RETURN OF TOTAL INCOME / STATEMENT OF FINAL TAXATION UNDER THE INCOME TAX ORDINANCE, 2001 (IT-2) | H2: 1/2
A3: FOR INDIVIDUAL DERIVING INCOME UNDER THE HEAD BUSINESS & ANY OTHER HEAD EXCEPT SALARY
A4: Name* | C4: =+PROFILE!K3 -> MUHAMMAD RAHIL IQBAL | G4: Tax Year | H4: =PROFILE!AU7 -> 2024 | J4: 2
A5: CNIC* | C5: =+PROFILE!AU5 -> - | G5: NTN* | H5: =PROFILE!AU4 -> - | J5: 1
A6: Address* | C6: =+PROFILE!K5 -> - | I6: RTO
B7: Sr. | C7: Description | E7: Code | F7: Total Amount | G7: Amount Exempt from Tax / Subject to Fixed / Final Tax | H7: Amount Subject to Normal Tax
F8: A | G8: B | H8: C
A9: Property | B9: 1 | C9: Income / (Loss) from Property [Sum of 2 to 10] | E9: 2000 | F9: =SUM(F10:F14)-SUM(F15:F18) -> 0 | G9: =SUM(G10:G12) -> 0 | H9: =SUM(H10:H14)-SUM(H15:H18) -> 0
B10: =+B9+1 -> 2 | C10: Rent Received or Receivable | E10: 2001 | H10: =MAX(SUM(F10)-SUM(G10),0) -> 0
B11: =+B10+1 -> 3 | C11: 1/10th of amount not adjustable against Rent | E11: 2002 | H11: =MAX(SUM(F11)-SUM(G11),0) -> 0 | I11: =F10*1/10 -> 0
B12: =+B11+1 -> 4 | C12: Forfeited Deposit under a Contract for Sale of Property | E12: 2003 | G12: =F12 -> 0 | H12: =MAX(SUM(F12)-SUM(G12),0) -> 0 | M12: Taxable Amount: | O12: =+H47 -> 0 | Q12: Total Tax: | R12: =MAX(R20:R27) -> 0
B13: =+B12+1 -> 5 | C13: Recovery of Unpaid Irrecoverable Rent allowed as deduction | E13: 2004 | H13: =MAX(SUM(F13)-SUM(G13),0) -> 0
B14: =+B13+1 -> 6 | C14: Unpaid Liabilities exceeding three years | E14: 2005 | H14: =MAX(SUM(F14)-SUM(G14),0) -> 0
B15: =+B14+1 -> 7 | C15: 1/5th of Rent of Building for Repairs [(2+3+4)*20%] | E15: 2031 | F15: =SUM(F10:F12)*20% -> 0 | H15: =MAX(SUM(F15)-SUM(G15),0) -> 0
B16: =+B15+1 -> 8 | C16: Insurance Premium | E16: 2032
B17: =+B16+1 -> 9 | C17: Local Rate / Tax / Charge / Cess | E17: 2033
B18: =+B17+1 -> 10 | C18: Other Deductions against Rent | E18: 2098 | H18: =F18 -> 0 | I18: =F10*4% -> 0
B19: =+B18+1 -> 11 | C19: Income from Business | E19: 3000 | F19: ='Annex-B'!E54 -> 0 | G19: ='Annex-B'!F54 -> 0 | H19: =+F19-G19 -> 0 | N19: From | O19: To
B20: =+B19+1 -> 12 | C20: Gains / (Loss) from Capital Assets (including securities) | E20: 4000 | H20: =+SUM(F20)-SUM(G20) -> 0 | M20: 1 | N20: 0 | O20: 200000 | P20: 0 | Q20: 0 | R20: =IF(AND($F$9>=N20,$F$9<O20),($F$9-N20)*Q20+P20,0) -> 0
B21: =+B20+1 -> 13 | C21: Income / (Loss) from Other Sources [Sum of 14 to 22] - [Sum of 23 to 25] | E21: 5000 | F21: =SUM(F22:F30)-SUM(F31:F33) -> 0 | H21: =+SUM(F21)-SUM(G21) -> 0 | M21: 2 | N21: =O20 -> 200000 | O21: 600000 | P21: 0 | Q21: 0.05 | R21: =IF(AND($F$9>=N21,$F$9<O21),($F$9-N21)*Q21+P21,0) -> 0
B22: =+B21+1 -> 14 | C22: Receipts from Other Sources | E22: 5029 | H22: =F22-G22 -> 0 | M22: 3 | N22: =O21 -> 600000 | O22: 1000000 | P22: 20000 | Q22: 0.1 | R22: =IF(AND($F$9>=N22,$F$9<O22),($F$9-N22)*Q22+P22,0) -> 0
B23: =+B22+1 -> 15 | C23: Royalty | E23: 5002 | H23: =F23-G23 -> 0 | M23: 4 | N23: =O22 -> 1000000 | O23: 2000000 | P23: 60000 | Q23: 0.15 | R23: =IF(AND($F$9>=N23,$F$9<O23),($F$9-N23)*Q23+P23,0) -> 0
B24: =+B23+1 -> 16 | C24: Profit on Debt (Interest, Yield, etc) | E24: 5003 | H24: =F24-G24 -> 0 | M24: 5 | N24: =O23 -> 2000000 | O24: 4000000 | P24: 210000 | Q24: 0.2 | R24: =IF(AND($F$9>=N24,$F$9<O24),($F$9-N24)*Q24+P24,0) -> 0
B25: =+B24+1 -> 17 | C25: Profit on Debt (if amount u/s 7B exceeds Rs. 36 million) | E25: 500312 | F25: =IF('Work Sheet'!I15>5000000,'Work Sheet'!I15,0) -> 0 | H25: =F25-G25 -> 0 | M25: 6 | N25: =O24 -> 4000000 | O25: 6000000 | P25: 610000 | Q25: 0.25 | R25: =IF(AND($F$9>=N25,$F$9<O25),($F$9-N25)*Q25+P25,0) -> 0
B26: =+B25+1 -> 18 | C26: Ground Rent | E26: 5004 | H26: =F26-G26 -> 0 | M26: 7 | N26: =O25 -> 6000000 | O26: 8000000 | P26: 1110000 | Q26: 0.3 | R26: =IF(AND($F$9>=N26,$F$9<O26),($F$9-N26)*Q26+P26,0) -> 0
B27: =+B26+1 -> 19 | C27: Rent from sub lease of Land or Building | E27: 5005 | H27: =F27-G27 -> 0 | M27: 8 | N27: =O26 -> 8000000 | O27: 999999999999999 | P27: 1710000 | Q27: 0.35 | R27: =IF(AND($F$9>=N27,$F$9<O27),($F$9-N27)*Q27+P27,0) -> 0
B28: =+B27+1 -> 20 | C28: Rent from lease of Building with Plant and Machinery | E28: 5006 | H28: =F28-G28 -> 0 | M28: Taxable Amount: | O28: =+H47 -> 0 | Q28: Total Tax: | R28: =MAX(R45:R51) -> 0
B29: =+B28+1 -> 21 | C29: Annuity/pension | E29: 5007 | G29: =F29 -> 0 | M29: Sr.No. | N29: Amount | P29: Max. Tax Within Slab | Q29: Rate (%) | R29: Tax Amount
B30: =+B29+1 -> 22 | C30: Other Receipts | E30: 5028 | H30: =F30-G30 -> 0
B31: =+B30+1 -> 23 | C31: Deductions from Other Sources | E31: 5089 | H31: =F31-G31 -> 0
B32: =+B31+1 -> 24 | C32: Accounting Depreciation | E32: 5064
B33: =+B32+1 -> 25 | C33: Other Deductions | E33: 5088 | H33: =F33-G33 -> 0
B34: =+B33+1 -> 26 | C34: Foreign Income | E34: 6000 | H34: =+SUM(F34)-SUM(G34) -> 0
B35: =+B34+1 -> 27 | C35: Foreign Business Income / (Loss) | E35: 6039
B36: =+B35+1 -> 28 | C36: Foreign Property Income / (Loss) | E36: 6029
B37: =+B36+1 -> 29 | C37: Foreign Capital Gains / (Loss) | E37: 6049
B38: =+B37+1 -> 30 | C38: Foreign Other Sources Income / (Loss) | E38: 6059
B39: =+B38+1 -> 31 | C39: Share in untaxed Income from AOP | E39: 3131 | F39: ='Annex-B'!E30 -> 0 | H39: =+SUM(F39)-SUM(G39) -> 0
B40: =+B39+1 -> 32 | C40: Share in Taxed Income from AOP | E40: 3141 | F40: ='Annex-B'!E31 -> 0 | H40: =+SUM(F40)-SUM(G40) -> 0
...

Sheet Annex-A
A1: Annex-A
A2: Adjustable Tax Collected / Deducted
A3: Name* | C3: =+'IND (BUS PLUS)'!C4:F4 -> MUHAMMAD RAHIL IQBAL | H3: Tax Year | I3: =PROFILE!AU7 -> 2024
A4: CNIC* | C4: =+'IND (BUS PLUS)'!C5:F5 -> - | H4: NTN | I4: =+'IND (BUS PLUS)'!H5 -> -
B5: Sr. | C5: Description | G5: Code | H5: Receipts / Value | I5: Tax Collected / Deducted / Paid
H6: A | I6: B
B7: 1 | C7: Adjustable Tax [Sum of 2 to 38] | G7: 640000 | I7: =SUM(I8:I46) -> 0
B8: =+B7+1 -> 2 | C8: Import u/s 148 @1% | G8: 64010002 | I8: =H8*1% -> 0
B9: =+B8+1 -> 3 | C9: Import u/s 148 @2% | G9: 64010004 | I9: =H9*2% -> 0
B10: =+B9+1 -> 4 | C10: Import u/s 148 @3% | G10: 64010006 | I10: =H10*3% -> 0
B11: =+B10+1 -> 5 | C11: Import u/s 148 @3.5% | G11: 64010084 | I11: =H11*3.5% -> 0
B12: =+B11+1 -> 6 | C12: Import u/s 148 @4% | G12: 64010008 | I12: =H12*4.5% -> 0
B13: =+B12+1 -> 7 | C13: Import u/s 148 @5.5% | G13: 64010011 | I13: =H13*5.5% -> 0
B14: =+B13+1 -> 8 | C14: Directorship Fee u/s.149(3) @ 20% | G14: 64020005 | I14: =H14*20% -> 0
B15: =+B14+1 -> 9 | C15: Profit on debt u/s 151 @ 15% | G15: 64040005 | I15: =H15*15% -> 0
B16: =+B15+1 -> 10 | C16: Payment for Goods, Services, Contracts, Rent, etc. to a Non-Resident u/s 152(2) | G16: 64050007
B17: =+B16+1 -> 11 | C17: Profit on Debt to a Non-Resident u/s 152(2) | G17: 64050008
B18: =+B17+1 -> 12 | C18: Payment for Goods to a PE of a Non-Resident u/s 152(2A)(a) / Division II, Part III, 1st Schedule | G18: 64050009
B19: =+B18+1 -> 13 | C19: Payment for Contracts to a PE of a Non-Resident u/s 152(2A)(c) / Division II, Part III, 1st Schedule | G19: 64050012
B20: =+B19+1 -> 14 | C20: Payment for Goods u/s 153(1)(a) @1% | G20: 64060002 | I20: =H20*1% -> 0
B21: =+B20+1 -> 15 | C21: Payment for Goods u/s 153(1)(a) @1.5% | G21: 64060003 | I21: =H21*1.5% -> 0
B22: =+B21+1 -> 16 | C22: Payment for Goods u/s 153(1)(a) @2.5% | G22: 64060005 | I22: =H22*3% -> 0
B23: =+B22+1 -> 17 | C23: Payment for Goods u/s 153(1)(a) @4.5% | G23: 64060009 | I23: =H23*4.5% -> 0
B24: =+B23+1 -> 18 | C24: Motor Vehicle Registration Fee u/s 231B(1) | G24: 64100301
B25: =+B24+1 -> 19 | C25: Motor Vehicle Transfer Fee u/s 231B(2) | G25: 64100302
B26: =+B25+1 -> 20 | C26: Motor Vehicle Sale u/s 231B(3) | G26: 64100303
B27: =+B26+1 -> 21 | C27: Motor Vehicle Leasing u/s.231B(1A) @4% | G27: 64100304
B28: =+B27+1 -> 22 | C28: Goods Transport Public Vehicle Tax u/s 234 | G28: 64130001
B29: =+B28+1 -> 23 | C29: Passenger Transport Public Vehicle Tax u/s 234 | G29: 64130002
B30: =+B29+1 -> 24 | C30: Private Vehicle Tax u/s 234 | G30: 64130003
B31: =+B30+1 -> 25 | C31: Electricity Bill of Domestic Consumer u/s 235A | G31: 64140101 | I31: ='Work Sheet'!I4 -> 0
B32: =+B31+1 -> 26 | C32: Telephone Bill u/s 236(1)(a) | G32: 64150001 | I32: ='Work Sheet'!I5 -> 0
B33: =+B32+1 -> 27 | C33: Cellphone Bill u/s 236(1)(a) | G33: 64150002
B34: =+B33+1 -> 28 | C34: Prepaid Telephone Card u/s 236(1)(b) | G34: 64150003
B35: =+B34+1 -> 29 | C35: Phone Unit u/s 236(1)(c) | G35: 64150004
B36: =+B35+1 -> 30 | C36: Internet Bill u/s 236(1)(d) | G36: 64150005
B37: =+B36+1 -> 31 | C37: Prepaid Internet Card u/s 236(1)(e) | G37: 64150006
B38: =+B37+1 -> 32 | C38: Purchase by Auction u/s 236A | G38: 64150101
B39: =+B38+1 -> 33 | C39: Sale / Transfer of Immovable Property u/s 236C | G39: 64150301
B40: =+B39+1 -> 34 | C40: Functions/gatherings charges u/s 236CB | G40: 64150407
...

Sheet Annex-B
A1: Annex-B | G1: 1/2
A2: Manufacturing / Trading / Profit & Loss Account ( including Revenues subject to Final / Fixed Tax)
A3: (Separate form should be filled for each business)
A4: Name* | C4: =IF('IND (BUS PLUS)'!$C$4="","",'IND (BUS PLUS)'!$C$4) -> MUHAMMAD RAHIL IQBAL | F4: Tax Year | G4: =PROFILE!AU7 -> 2024
A5: CNIC* | C5: =+'Annex-A'!C4:G4 -> - | F5: NTN | G5: =+'IND (BUS PLUS)'!H5 -> -
A6: Business Name* | C6: =+PROFILE!K4 -> RAHIL IQBAL & CO. | G6: ='IND (BUS PLUS)'!H6 -> 0
B7: Sr. | C7: Description | D7: Code | E7: Total Amount | F7: Amount Subject to Final Tax | G7: Amount Subject to Normal Tax
E8: A | F8: B | G8: C
A9: Revenue | B9: 1 | C9: Net Revenue (excluding Sales Tax, Federal Excise, Brokerage, Commission, Discount, Freight Outward) [2-3] | D9: 3029 | E9: =E10-E11 -> 0 | F9: =+F10-F11 -> 0 | G9: =G10-G11 -> 0
B10: =+B9+1 -> 2 | C10: Gross Revenue (excluding Sales Tax, Federal Excise) | D10: 3009 | E10: ='Work Sheet'!D3 -> 0 | G10: =+E10-F10 -> 0
B11: =+B10+1 -> 3 | C11: Selling Expenses (Freight Outward, Brokerage, Commission, Discount, etc.) | D11: 3019 | E11: ='Work Sheet'!D4 -> 0 | G11: =+E11-F11 -> 0
A12: Cost of Sales / Services | B12: =+B11+1 -> 4 | C12: Cost of Sales / Services [(sum of 5 to 15)-16] | D12: 3030 | E12: =+SUM(E13:E23)-E24 -> 0 | F12: =+SUM(F13:F23)-F24 -> 0 | G12: =+SUM(G13:G23)-G24 -> 0
B13: =+B12+1 -> 5 | C13: Opening Stock | D13: 3039 | E13: ='Work Sheet'!D6 -> 0 | G13: =+E13-F13 -> 0
B14: =+B13+1 -> 6 | C14: Net Purchases (excluding Sales Tax, Federal Excise) | D14: 3059 | E14: ='Work Sheet'!D7 -> 0 | G14: =+E14-F14 -> 0
B15: =+B14+1 -> 7 | C15: Salaries / Wages | D15: 3071 | E15: ='Work Sheet'!D23 -> 0 | G15: =+E15-F15 -> 0
B16: =+B15+1 -> 8 | C16: Fuel | D16: 3072 | E16: ='Work Sheet'!D24 -> 0 | G16: =+E16-F16 -> 0
B17: =+B16+1 -> 9 | C17: Power | D17: 3073 | E17: ='Work Sheet'!D25 -> 0 | G17: =+E17-F17 -> 0
B18: =+B17+1 -> 10 | C18: Gas | D18: 3074 | E18: ='Work Sheet'!D26 -> 0 | G18: =+E18-F18 -> 0
B19: =+B18+1 -> 11 | C19: Stores / Spares | D19: 3076 | E19: ='Work Sheet'!D27 -> 0 | G19: =+E19-F19 -> 0
B20: =+B19+1 -> 12 | C20: Repair / Maintenance | D20: 3077 | E20: ='Work Sheet'!D28 -> 0 | G20: =+E20-F20 -> 0
B21: =+B20+1 -> 13 | C21: Other Direct Expenses | D21: 3083 | E21: ='Work Sheet'!D29 -> 0 | G21: =+E21-F21 -> 0
B22: =+B21+1 -> 14 | C22: Accounting Amortization | D22: 3087 | E22: ='Work Sheet'!D30 -> 0 | G22: =+E22-F22 -> 0
B23: =+B22+1 -> 15 | C23: Accounting Depreciation | D23: 3088 | E23: ='Work Sheet'!D31 -> 0 | G23: =+E23-F23 -> 0
B24: =+B23+1 -> 16 | C24: Closing Stock | D24: 3099 | E24: ='Work Sheet'!D9 -> 0 | G24: =+E24-F24 -> 0
B25: =+B24+1 -> 17 | C25: Gross Profit / (Loss) [1-4] | D25: 3100 | E25: =+E9-E12 -> 0 | F25: =+F9-F12 -> 0 | G25: =+G9-G12 -> 0
B26: =+B25+1 -> 18 | C26: Other Revenues [Sum of 19 to 22] | D26: 3129 | E26: =+E27+E28+E29 -> 0 | F26: =+F27+F28+F29 -> 0 | G26: =+G27+G28+G29 -> 0
B27: =+B26+1 -> 19 | C27: Accounting Gain on Sale of Intangibles | D27: 3115 | E27: ='Work Sheet'!D13 -> 0 | G27: =+E27-F27 -> 0
B28: =+B27+1 -> 20 | C28: Accounting Gain on Sale of Assets | D28: 3116 | E28: ='Work Sheet'!D14 -> 0 | G28: =+E28-F28 -> 0
B29: 21 | C29: Others | D29: 3128 | E29: ='Work Sheet'!D12 -> 0 | G29: =+E29-F29 -> 0
B30: 22 | C30: Share in untaxed Income from AOP | D30: 3131 | E30: ='Work Sheet'!D15 -> 0 | G30: =+E30-F30 -> 0
B31: 23 | C31: Share in Taxed Income from AOP | D31: 3141 | E31: ='Work Sheet'!D16 -> 0 | G31: =+E31-F31 -> 0
A33: Indirect Expenses | B33: 24 | C33: Management, Administrative, Selling & Financial Expenses [Sum of 24 to 43] | D33: 3199 | E33: =SUM(E34:E53) -> 0 | F33: =SUM(F34:F53) -> 0 | G33: =SUM(G34:G53) -> 0
B34: =+B33+1 -> 25 | C34: Rent | D34: 3151 | E34: ='Work Sheet'!D33 -> 0 | G34: =+E34-F34 -> 0
B35: =+B34+1 -> 26 | C35: Rates / Taxes / Cess | D35: 3152 | E35: ='Work Sheet'!D34 -> 0 | G35: =+E35-F35 -> 0
B36: =+B35+1 -> 27 | C36: Salaries / Wages / Perquisites / Benefits | D36: 3154 | E36: ='Work Sheet'!D35 -> 0 | G36: =+E36-F36 -> 0
B37: =+B36+1 -> 28 | C37: Traveling / Conveyance / Vehicles Running / Maintenance | D37: 3155 | E37: ='Work Sheet'!D36 -> 0 | G37: =+E37-F37 -> 0
B38: =+B37+1 -> 29 | C38: Electricity / Water / Gas | D38: 3158 | E38: ='Work Sheet'!D37 -> 0 | G38: =+E38-F38 -> 0
B39: =+B38+1 -> 30 | C39: Communication | D39: 3162 | E39: ='Work Sheet'!D38 -> 0 | G39: =+E39-F39 -> 0
B40: =+B39+1 -> 31 | C40: Repair / Maintenance | D40: 3165 | E40: ='Work Sheet'!D39 -> 0 | G40: =+E40-F40 -> 0
B41: =+B40+1 -> 32 | C41: Stationery / Printing / Photocopies / Office Supplies | D41: 3166 | E41: ='Work Sheet'!D40 -> 0 | G41: =+E41-F41 -> 0
...

Sheet Annex-F
A1: Annex-F
A2: Personal Expenses
A3: Name* | C3: =+'Annex-A'!C3:G3 -> MUHAMMAD RAHIL IQBAL | E3: Tax Year | F3: =PROFILE!AU7 -> 2024
A4: CNIC* | C4: =+'IND (BUS PLUS)'!C5:F5 -> - | E4: NTN | F4: =+'Annex-B'!G5 -> -
B5: Sr. | C5: Description | E5: Code | F5: Amount
A6: Personal Expenses | B6: 1 | C6: Personal Expenses [Sum of 2 to 16 minus 17] | E6: 7089 | F6: =SUM(F7:F21)-SUM(F22) -> 0
B7: 2 | C7: Rent | E7: 7051
B8: 3 | C8: Rates / Taxes / Charge / Cess | E8: 7052
B9: 4 | C9: Vehicle Running / Maintenence | E9: 7055
B10: 5 | C10: Travelling | E10: 7056
B11: 6 | C11: Electricity | E11: 7058
B12: 7 | C12: Water | E12: 7059
B13: 8 | C13: Gas | E13: 7060
B14: 9 | C14: Telephone | E14: 7061
B15: 10 | C15: Asset Insurance / Security | E15: 7066
B16: 11 | C16: Medical | E16: 7070
B17: 12 | C17: Educational | E17: 7071
B18: 13 | C18: Club | E18: 7072
... B22: 17 | C22: Contribution in Expenses by Family Members [Sum of 18 to 21] | E22: 7088
C23: CNIC No. | D23: Name*
B24: 18
B25: 19
B26: 20
B27: 21
A28: Signature: | E28: Date:

Sheet Wealth Statement
A1: WEALTH STATEMENT UNDER SECTION 116 OF THE INCOME TAX ORDINANCE, 2001 | J1: 1/4
A2: Name* | C2: =+'Annex-A'!C3:G3 -> MUHAMMAD RAHIL IQBAL | I2: Tax Year | J2: =PROFILE!AU7 -> 2024
A3: CNIC* | C3: =+'IND (BUS PLUS)'!C5:F5 -> - | I3: NTN | J3: =+'IND (BUS PLUS)'!H5 -> -
A4: Residence Address* | C4: =+PROFILE!K6 -> - | J4: =+'IND (BUS PLUS)'!H6 -> 0
A5: Business Address* | C5: =+PROFILE!K5 -> -
A6: Agricultural Property | B6: 1 | C6: Agricultural Property [Sum of 1 i to 1 x] | I6: 7001 | J6: =SUM(J8:J17) -> 0
C7: Form (Irrigated / Unirrigated / Uncultivable) | D7: Mauza / Village / Chak No. | E7: Tehsil | F7: District | G7: Area (Acre) | H7: Share % | I7: Code | J7: Value at Cost
B8: i | I8: 7001
B9: ii | I9: 7001
B10: iii | I10: 7001
B11: iv | I11: 7001
B12: v | I12: 7001
B13: vi | I13: 7001
B14: vii | I14: 7001
B15: viii | I15: 7001
B16: ix | I16: 7001
B17: x | I17: 7001
A18: Residential, Commercial, Industrial Property | B18: 2 | C18: Commercial, Industrial, Residential Property (Non-Business) [Sum of 2 i to 2 x] | I18: 7002 | J18: =SUM(J20:J29) -> 0
C19: Form (House, Flat, Shop, Plaza, Factory, Workshop, etc.) | D19: Unit No. / Complex / Street / Block / Sector | E19: Area / Locality / Road | F19: City | G19: Area (Marla / sq. yd.) | H19: Share % | I19: Code | J19: Value at Cost
B20: i | I20: 7002
B21: ii | I21: 7002
B22: iii | I22: 7002
B23: iv | I23: 7002
B24: v | I24: 7002
B25: vi | I25: 7002
B26: vii | I26: 7002
B27: viii | I27: 7002
B28: ix | I28: 7002
B29: x | I29: 7002
A30: Business Capital | B30: 3 | C30: Business Capital | I30: 7003 | J30: =SUM(J32:J35) -> 0
C31: Enter name, share percentage & capital amount in each AOP | H31: Share % | I31: Code | J31: Value at Cost
B32: i | I32: 7003
B33: ii | I33: 7003
B34: iii | I34: 7003
B35: i | C35: Enter consolidated capital amount of all Sole Proprietorships | H35: 1 | I35: 7003
A36: Equipment | B36: 4 | C36: Equipment, etc. (Non-Business) [Sum of 4 i to 4 iv] | I36: 7004 | J36: =SUM(J38:J41) -> 0
C37: Description | I37: Code | J37: Value at Cost
B38: i | I38: 7004
B39: ii | I39: 7004
B40: iii | I40: 7004
...

Sheet Annex-C
A1: Annex-C
A2: Inadmissible / Admissible Deductions
A3: Name* | C3: =IF('IND (BUS PLUS)'!C4="","",'IND (BUS PLUS)'!C4) -> MUHAMMAD RAHIL IQBAL | D3: Tax Year | E3: =PROFILE!AU7 -> 2024
A4: CNIC* | C4: =+'Annex-B'!C5:E5 -> - | D4: NTN | E4: =+'Annex-A'!I4 -> -
B5: Sr. | C5: Description | D5: Code | E5: Amount
A6: Inadmissible Deductions | B6: 1 | C6: Inadmissible Deductions [Sum of 2 to 32] | D6: 3239 | E6: =SUM(E7:E37) -> 0
B7: =+B6+1 -> 2 | C7: Add Backs Provision for Obsolete Stocks / Stores / Spares / Fixed Assets | D7: 3202
B8: =+B7+1 -> 3 | C8: Add Backs Provision for Diminution in Value of Investment | D8: 3203
B9: =+B8+1 -> 4 | C9: Add Backs u/s 21(a) Cess / Rate / Tax levied on Profits / Gains | D9: 3205
B10: =+B9+1 -> 5 | C10: Add Backs u/s 21(b) Amount of Tax Deducted at Source | D10: 3206
B11: =+B10+1 -> 6 | C11: Add Backs u/s 21(c) Payments liable to deduction of tax at source but tax not deducted / paid | D11: 3207
B12: =+B11+1 -> 7 | C12: Add Backs u/s 21(ca) commission in excess of 0.2% of grass amount of supplies to a person not appearing in ATL in third schedule to Sales Tax Act, 1990. | D12: 3227
B13: =+B12+1 -> 8 | C13: Add Backs u/s 21(d) Entertainment Expenditure above prescribed limit | D13: 3208
B14: =+B13+1 -> 9 | C14: Add Backs u/s 21(e) Contributions to Unrecognized / Unapproved Funds | D14: 3209
B15: =+B14+1 -> 10 | C15: Add Backs u/s 21(f) Contributions to Funds not under effective arrangement for deduction of tax at source | D15: 3210
B16: =+B15+1 -> 11 | C16: Add Backs u/s 21(g) Fine / penalty for violation of any law / rule / regulation | D16: 3211
B17: =+B16+1 -> 12 | C17: Add Backs u/s 21(h) Personal Expenditure | D17: 3212
B18: =+B17+1 -> 13 | C18: Add Backs u/s 21(i) Provision for Reserves / Funds / Amount carried to Reserves / Funds or Capitalized | D18: 3204
... B37: =+B36+1 -> 32 | C37: Other Inadmissible Deductions | D37: 3234
A38: Admissible Deductions | B38: =+B37+1 -> 33 | C38: Admissible Deductions [Sum of 34 to 43] | D38: 3259 | E38: =SUM(E39:E48) -> 0
B39: =+B38+1 -> 34 | C39: Accounting Gain on Sale of Intangibles | D39: 3245
B40: =+B39+1 -> 35 | C40: Accounting Gain on Sale of Assets | D40: 3246
B41: =+B40+1 -> 36 | C41: Tax Amortization for Current Year | D41: 3247
B42: =+B41+1 -> 37 | C42: Tax Depreciation / Initial Allowance for Current Year | D42: 3248
B43: =+B42+1 -> 38 | C43: Pre-Commencement Expenditure / Deferred Cost | D43: 3250
B44: =+B43+1 -> 39 | C44: Other Admissible Deductions | D44: 3254
B45: =+B44+1 -> 40 | C45: Tax (Loss) on Sale of Intangibles | D45: 3255
B46: =+B45+1 -> 41 | C46: Tax (Loss) on Sale of Assets | D46: 3256
B47: =+B46+1 -> 42 | C47: Unabsorbed Tax Amortization for Previous Years | D47: 3257
B48: =+B47+1 -> 43 | C48: Unabsorbed Tax Depreciation for Previous Years | D48: 3258
C49: Signature: | D49: Date:

Sheet Annex-D
A1: Annex-D
A2: Depreciation, Initial Allowance, Amortization
A3: Name* | C3: =IF('IND (BUS PLUS)'!C4="","",'IND (BUS PLUS)'!C4) -> MUHAMMAD RAHIL IQBAL | N3: Tax Year | O3: =PROFILE!AU7 -> 2024
A4: CNIC* | C4: =+'Annex-A'!C4:G4 -> - | N4: NTN | O4: =+'Annex-C'!E4 -> -
B5: Sr. | C5: Description | D5: Code | E5: WDV (BF) | F5: Deletion | G5: Addition (Used Previously in Pakistan) | H5: Extent of Use | I5: Addition (New) | J5: Extent of Use | K5: Rate | L5: Initial Allowance | M5: Rate | N5: Depreciation | O5: WDV (CF)
E6: A | F6: B | G6: C | H6: D | I6: E | J6: F | L6: G | N6: H | O6: I
A7: Depreciation | B7: 1 | C7: Building (all types) | D7: 3302 | H7: 1 | J7: 1 | K7: 0.15 | L7: =ROUND(I7 * K7 * J7,0) -> 0 | M7: 0.1 | N7: =(((E7-F7)+G7)*H7*M7)+((I7-L7)*J7*M7) -> 0 | O7: =E7-F7+G7+I7-L7-N7 -> 0
B8: =+B7+1 -> 2 | C8: Ramp for Disabled Persons | D8: 330204 | H8: 1 | J8: 1 | K8: 1 | L8: =ROUND(I8 * K8 * J8,0) -> 0 | M8: 1 | N8: =(((E8-F8)+G8)*H8*M8)+((I8-L8)*J8*M8) -> 0 | O8: =E8-F8+G8+I8-L8-N8 -> 0
B9: =+B8+1 -> 3 | C9: Plant / Machinery (not otherwise specified) | D9: 330301 | H9: 1 | J9: 1 | K9: 0.25 | L9: =ROUND(I9 * K9 * J9,0) -> 0 | M9: 0.15 | N9: =(((E9-F9)+G9)*H9*M9)+((I9-L9)*J9*M9) -> 0 | O9: =E9-F9+G9+I9-L9-N9 -> 0
B10: =+B9+1 -> 4 | C10: Computer Hardware / Allied Items / Equipment used in manufacture of IT products | D10: 330302 | H10: 1 | J10: 1 | K10: 0.25 | L10: =ROUND(I10 * K10 * J10,0) -> 0 | M10: 0.3 | N10: =(((E10-F10)+G10)*H10*M10)+((I10-L10)*J10*M10) -> 0 | O10: =E10-F10+G10+I10-L10-N10 -> 0
B11: =+B10+1 -> 5 | C11: Furniture (including fittings) | D11: 330303 | H11: 1 | J11: 1 | K11: 0 | L11: =ROUND(I11 * K11 * J11,0) -> 0 | M11: 0.15 | N11: =(((E11-F11)+G11)*H11*M11)+((I11-L11)*J11*M11) -> 0 | O11: =E11-F11+G11+I11-L11-N11 -> 0
B12: =+B11+1 -> 6 | C12: Technical / Professional Books | D12: 330304 | H12: 1 | J12: 1 | K12: 0.25 | L12: =ROUND(I12 * K12 * J12,0) -> 0 | M12: 0.15 | N12: =(((E12-F12)+G12)*H12*M12)+((I12-L12)*J12*M12) -> 0 | O12: =E12-F12+G12+I12-L12-N12 -> 0
B13: =+B12+1 -> 7 | C13: Offshore Installations of mineral oil concerns | D13: 330306 | H13: 1 | J13: 1 | K13: 0.25 | L13: =ROUND(I13 * K13 * J13,0) -> 0 | M13: 0.2 | N13: =(((E13-F13)+G13)*H13*M13)+((I13-L13)*J13*M13) -> 0 | O13: =E13-F13+G13+I13-L13-N13 -> 0
B14: =+B13+1 -> 8 | C14: Machinery / Equipment eligible for 1st year Allowance | D14: 330308 | H14: 1 | J14: 1 | K14: 0.9 | L14: =ROUND(I14 * K14 * J14,0) -> 0 | M14: 0.15 | N14: =(((E14-F14)+G14)*H14*M14)+((I14-L14)*J14*M14) -> 0 | O14: =E14-F14+G14+I14-L14-N14 -> 0
B15: =+B14+1 -> 9 | C15: Motor Vehicle (not plying for hire) | D15: 33041 | H15: 1 | J15: 1 | K15: 0 | L15: =ROUND(I15 * K15 * J15,0) -> 0 | M15: 0.15 | N15: =(((E15-F15)+G15)*H15*M15)+((I15-L15)*J15*M15) -> 0 | O15: =E15-F15+G15+I15-L15-N15 -> 0
B16: =+B15+1 -> 10 | C16: Motor Vehicle (plying for hire) | D16: 33042 | H16: 1 | J16: 1 | K16: 0.25 | L16: =ROUND(I16 * K16 * J16,0) -> 0 | M16: 0.15 | N16: =(((E16-F16)+G16)*H16*M16)+((I16-L16)*J16*M16) -> 0 | O16: =E16-F16+G16+I16-L16-N16 -> 0
B17: =+B16+1 -> 11 | C17: Ships | D17: 33043 | H17: 1 | J17: 1 | K17: 0.25 | L17: =ROUND(I17 * K17 * J17,0) -> 0 | M17: 0.15 | N17: =(((E17-F17)+G17)*H17*M17)+((I17-L17)*J17*M17) -> 0 | O17: =E17-F17+G17+I17-L17-N17 -> 0
B18: =+B17+1 -> 12 | C18: Aircrafts / Aero Engines | D18: 33044 | H18: 1 | J18: 1 | K18: 0.25 | L18: =ROUND(I18 * K18 * J18,0) -> 0 | M18: 0.3 | N18: =(((E18-F18)+G18)*H18*M18)+((I18-L18)*J18*M18) -> 0 | O18: =E18-F18+G18+I18-L18-N18 -> 0
B19: =+B18+1 -> 13 | C19: Tax Depreciation / Initial Allowance for Current Year | D19: 3248 | K19: 100% | L19: =SUM(L7:L18) -> 0 | M19: 100% | N19: =SUM(N7:N18) -> 0 | O19: =SUM(O7:O18) -> 0
A20: Amortization | C20: Description | D20: Code | E20: WDV (BF) | F20: Remaining Useful Life | G20: Extent of Use | H20: Amortization
E21: A | F21: B | G21: C | H21: D
B22: =+B19+1 -> 14 | C22: Intangible | D22: 3305 | H22: =IF(E22<>0,F22/E22*G22,0) -> 0
B23: =+B22+1 -> 15 | C23: Intangible | D23: 3305 | H23: =IF(E23<>0,F23/E23*G23,0) -> 0
B24: =+B23+1 -> 16 | C24: Intangible | D24: 3305 | H24: =IF(E24<>0,F24/E24*G24,0) -> 0
B25: =+B24+1 -> 17 | C25: Expenditure providing Long Term Advantage / Benefit | D25: 330516 | H25: =IF(E25<>0,F25/E25*G25,0) -> 0
B26: =+B25+1 -> 18 | C26: Tax Amortization for Current Year | D26: 3247 | H26: =IF(SUM(H22:I25)<>0,SUM(H22:I25),0) -> 0
B27: =+B26+1 -> 19 | C27: Pre-Commencement Expenditure | D27: 3306 | H27: =IF(E27<>0,F27/E27*G27,0) -> 0
A28: Signature: | N28: Date:

Sheet Annex-E
A1: Annex-E
A2: Name* | C2: ='IND (BUS PLUS)'!C4:F4 -> MUHAMMAD RAHIL IQBAL | H2: Tax Year | I2: =PROFILE!AU7 -> 2024
A3: CNIC* | C3: ='IND (BUS PLUS)'!C5:F5 -> - | H3: NTN | I3: =PROFILE!AU4 -> -
B4: Sr. | C4: Description | D4: Code | E4: Receipts / Value | F4: Tax Collectible / Deductible | G4: Attributable Taxable Income | H4: Tax on Attributable Taxable Income | I4: Minimum Tax Chargeable
A5: Minimum Tax Chargeable | B5: 1 | C5: Minimum Tax Chargeable [Col.E Sum of 2 to 6] | E5: A | F5: B | G5: C | H5: D | I5: E | J5: =SUM(I6:I55) -> 0
B6: =+B5+1 -> 2 | C6: mport u/s 148 @1% | D6: 64010052 | E6: ='IND (BUS PLUS)'!F83 -> 0 | F6: ='IND (BUS PLUS)'!G83 -> 0 | G6: ='MINIMUM TAX '!G28 -> 0 | H6: ='MINIMUM TAX '!H28 -> 0 | I6: ='MINIMUM TAX '!I28 -> 0
B7: =+B6+1 -> 3 | C7: Import u/s 148 @2% | D7: 64010054 | E7: ='IND (BUS PLUS)'!F84 -> 0 | F7: ='IND (BUS PLUS)'!G84 -> 0 | G7: ='MINIMUM TAX '!G29 -> 0 | H7: ='MINIMUM TAX '!H29 -> 0 | I7: ='MINIMUM TAX '!I29 -> 0
B8: =+B7+1 -> 4 | C8: Import u/s 148 @3% | D8: 64010056 | E8: ='IND (BUS PLUS)'!F85 -> 0 | F8: ='IND (BUS PLUS)'!G85 -> 0 | G8: ='MINIMUM TAX '!G30 -> 0 | H8: ='MINIMUM TAX '!H30 -> 0 | I8: ='MINIMUM TAX '!I30 -> 0
B9: =+B8+1 -> 5 | C9: Import u/s 148 @3.5% | D9: 64010084 | E9: ='IND (BUS PLUS)'!F86 -> 0 | F9: ='IND (BUS PLUS)'!G86 -> 0 | G9: ='MINIMUM TAX '!G32 -> 0 | H9: ='MINIMUM TAX '!H32 -> 0 | I9: ='MINIMUM TAX '!I32 -> 0
B10: =+B9+1 -> 6 | C10: Import u/s 148 @4% | D10: 64010058 | E10: ='IND (BUS PLUS)'!F87 -> 0 | F10: ='IND (BUS PLUS)'!G87 -> 0 | G10: ='MINIMUM TAX '!G32 -> 0 | H10: ='MINIMUM TAX '!H32 -> 0 | I10: ='MINIMUM TAX '!I32 -> 0
B11: =+B10+1 -> 7 | C11: Import u/s 148 @6% | D11: 64010062 | E11: 0 | F11: 0 | G11: 0 | H11: 0 | I11: 0
B12: =+B11+1 -> 8 | C12: Import of Edible Oil u/s 148 @5.5% | D12: 64010161 | E12: 0 | F12: 0 | G12: 0 | H12: 0 | I12: 0
B13: =+B12+1 -> 9 | C13: Import of Packing Material u/s 148 @5.5% | D13: 64010181 | E13: ='IND (BUS PLUS)'!F89 -> 0 | F13: ='IND (BUS PLUS)'!G89 -> 0 | G13: ='MINIMUM TAX '!G38 -> 0 | H13: ='MINIMUM TAX '!H38 -> 0 | I13: ='MINIMUM TAX '!I38 -> 0
B14: =+B13+1 -> 10 | C14: Import of Plastic Raw Material u/s 148 @ 1.75% | D14: 64010081 | E14: 0 | F14: 0 | G14: 0 | H14: 0 | I14: 0
B15: =+B14+1 -> 11 | C15: Import u/s 148 @ 4.125% | D15: 64010083 | E15: 0 | F15: 0 | G15: 0 | H15: 0 | I15: 0
B16: =+B15+1 -> 12 | C16: Import u/s 148 @ 2.75% | D16: 64010082 | E16: 0 | F16: 0 | G16: 0 | H16: 0 | I16: 0
B17: =+B16+1 -> 13 | C17: Import of ships by ship breakers u/s 148(8A) @ 4.5% | D17: 64010059 | E17: 0 | F17: 0 | G17: 0 | H17: 0 | I17: 0
B18: =+B17+1 -> 14 | C18: Payment for contracts for consruction, assembly of instalation to a non-resident u/s 152(1A) | D18: 64050052 | E18: ='IND (BUS PLUS)'!F98 -> 0 | F18: ='IND (BUS PLUS)'!G98 -> 0 | G18: ='MINIMUM TAX '!G39 -> 0 | H18: ='MINIMUM TAX '!H39 -> 0
B19: =+B18+1 -> 15 | C19: Payment for transport services to a PE of a non-resident u/s 152(2A)(b) | D19: 64050094 | E19: ='IND (BUS PLUS)'!F107 -> 0 | F19: ='IND (BUS PLUS)'!G107 -> 0
B20: =+B19+1 -> 16 | C20: Payment for services contracts to a non-resident u/s 152(1A)(b) | D20: 64050053 | E20: ='IND (BUS PLUS)'!F99 -> 0 | F20: ='IND (BUS PLUS)'!G99 -> 0 | G20: ='MINIMUM TAX '!D40 -> 0 | H20: ='MINIMUM TAX '!E40 -> 0 | I20: ='MINIMUM TAX '!F40 -> 0
B21: =+B20+1 -> 17 | C21: Fee for Advertisement Services to a non-resident u/s 152(1A)© | D21: 64050054 | E21: ='IND (BUS PLUS)'!F100 -> 0 | F21: ='IND (BUS PLUS)'!G100 -> 0 | G21: ='MINIMUM TAX '!D41 -> 0 | H21: ='MINIMUM TAX '!E41 -> 0 | I21: ='MINIMUM TAX '!F41 -> 0
B22: =+B21+1 -> 18 | C22: Insurance/re-instruance premium to a non-resident u/s 152(1AA) | D22: 64050055 | E22: ='IND (BUS PLUS)'!F101 -> 0 | F22: ='IND (BUS PLUS)'!G101 -> 0 | G22: ='MINIMUM TAX '!D42 -> 0 | H22: ='MINIMUM TAX '!E42 -> 0 | I22: ='MINIMUM TAX '!F42 -> 0
B23: =+B22+1 -> 19 | C23: Tax deduction on payments to persons engaged in international money transfer or cross border remittances u/s 152(1DC)/ Division IV Part I First Schedule @ 10% | D23: 64210057
B24: =+B23+1 -> 20 | C24: Tax ddeduction on payment to persons to Card Network company/payment gateway or anyother person/interbank financial telecommunication services u/s 152(1DD)/Division IV Part I First Schedule @ 10% | D24: 64210058
B25: =+B24+1 -> 21 | C25: Payment for other services for PE of a non-resident u/s 152(2A)(b) | D25: 64050095 | E25: ='IND (BUS PLUS)'!F108 -> 0 | F25: ='IND (BUS PLUS)'!G108 -> 0
B26: =+B25+1 -> 22 | C26: Payment for Services u/s 153(1)(b) @1% | D26: 64060152 | E26: ='IND (BUS PLUS)'!F114 -> 0 | F26: ='IND (BUS PLUS)'!G114 -> 0 | G26: ='MINIMUM TAX '!G47 -> 0 | H26: ='MINIMUM TAX '!H47 -> 0 | I26: ='MINIMUM TAX '!I47 -> 0
B27: =+B26+1 -> 23 | C27: Payment for goods u/s 153(1a) @ 0.25% | D27: 64060082
B28: =+B27+1 -> 24 | C28: Payment for goods u/s 153(1a) @ 2.5% | D28: 64060055 | E28: ='IND (BUS PLUS)'!F112 -> 0 | F28: ='IND (BUS PLUS)'!G112 -> 0 | G28: ='MINIMUM TAX '!G45 -> 0 | H28: ='MINIMUM TAX '!H45 -> 0 | I28: ='MINIMUM TAX '!I45 -> 0
B29: =+B28+1 -> 25 | C29: Payment for goods u/s 153(1a) @ 4.5% | D29: 64060059
B30: =+B29+1 -> 26 | C30: Payment for Services u/s 153(1)(b) @ 1.5% | D30: 64060153 | E30: ='IND (BUS PLUS)'!F115 -> 0 | F30: ='IND (BUS PLUS)'!G115 -> 0 | G30: ='MINIMUM TAX '!G48 -> 0 | H30: ='MINIMUM TAX '!H48 -> 0 | I30: ='MINIMUM TAX '!I48 -> 0
B31: =+B30+1 -> 27 | C31: Payment for specified for Services u/s 153(1)(b) @ 3% | D31: 64060156
B32: =+B31+1 -> 28 | C32: Payment for Services u/s 153(1)(b) @2% | D32: 64060154 | E32: ='IND (BUS PLUS)'!F116 -> 0 | F32: ='IND (BUS PLUS)'!G116 -> 0 | G32: ='MINIMUM TAX '!G49 -> 0 | H32: ='MINIMUM TAX '!H49 -> 0 | I32: ='MINIMUM TAX '!I49 -> 0
B33: =+B32+1 -> 29 | C33: Payment for Services u/s 153(1)(b) @10% | D33: 64060170 | E33: ='IND (BUS PLUS)'!F117 -> 0 | F33: ='IND (BUS PLUS)'!G117 -> 0 | G33: ='MINIMUM TAX '!G50 -> 0 | H33: ='MINIMUM TAX '!H50 -> 0 | I33: ='MINIMUM TAX '!I50 -> 0
B34: =+B33+1 -> 30 | C34: Payment for Services u/s 153(1)(b) @15% | D34: 64060180
B35: =+B34+1 -> 31 | C35: Receipts from Contracts u/s 153(1)(c) @8% | D35: 64060266 | E35: ='IND (BUS PLUS)'!F118 -> 0 | F35: ='IND (BUS PLUS)'!G118 -> 0 | G35: ='MINIMUM TAX '!G51 -> 0 | H35: ='MINIMUM TAX '!H51 -> 0 | I35: ='MINIMUM TAX '!I51 -> 0
B36: =+B35+1 -> 32 | C36: Receipts from Contracts u/s 153(1)(c) @10% | D36: 64060270 | E36: ='IND (BUS PLUS)'!F119 -> 0 | F36: ='IND (BUS PLUS)'!G119 -> 0 | G36: ='MINIMUM TAX '!G52 -> 0 | H36: ='MINIMUM TAX '!H52 -> 0 | I36: ='MINIMUM TAX '!I52 -> 0
B37: =+B36+1 -> 33 | C37: Payment for Goods u/s 153(1)(a) @1% | D37: 64060052 | E37: ='IND (BUS PLUS)'!F110 -> 0 | F37: ='IND (BUS PLUS)'!G110 -> 0 | G37: ='MINIMUM TAX '!G43 -> 0 | H37: ='MINIMUM TAX '!H43 -> 0 | I37: ='MINIMUM TAX '!I43 -> 0
B38: =+B37+1 -> 34 | C38: Payment for Goods u/s 153(1)(a) @1.5% | D38: 64060053 | E38: ='IND (BUS PLUS)'!F111 -> 0 | F38: ='IND (BUS PLUS)'!G111 -> 0 | G38: ='MINIMUM TAX '!G44 -> 0 | H38: ='MINIMUM TAX '!H44 -> 0 | I38: ='MINIMUM TAX '!I44 -> 0
B39: =+B38+1 -> 35 | C39: Payment for Goods u/s 153(1)(a) @5.5% | D39: 64060083 | E39: ='IND (BUS PLUS)'!F113 -> 0 | F39: ='IND (BUS PLUS)'!G113 -> 0 | G39: ='MINIMUM TAX '!G46 -> 0 | H39: ='MINIMUM TAX '!H46 -> 0 | I39: ='MINIMUM TAX '!I46 -> 0
B40: =+B39+1 -> 36 | C40: Fee for Export related Services u/s 153(2) @1% | D40: 64060352 | E40: ='IND (BUS PLUS)'!F120 -> 0 | F40: ='IND (BUS PLUS)'!G120 -> 0 | G40: ='MINIMUM TAX '!G53 -> 0 | H40: ='MINIMUM TAX '!H53 -> 0 | I40: ='MINIMUM TAX '!I53 -> 0
...

Sheet MINIMUM TAX 
A2: MINIMUM TAX CALCULATION
N5: NET INCOME | Q5: ='IND (BUS PLUS)'!H19 -> 0 | S5: Annual Final / Fixed Tax | U5: *****************
N6: Annual Income Tax | Q6: =S23 -> 0 | R6: PRESUMPTIVE INCOME AFTER TAX | U6: =U23-U5 -> #VALUE!
M8: SLAB | N8: Where the taxable Income Exceed | O8: To | P8: but does not exceed rupees | Q8: Rate Of Tax | R8: Addition | S8: TAXABLE AMOUNT | T8: TAX PAYABLE | U8: PRESUMPTIVE INCOME
M9: 1 | N9: 0 | P9: 600000 | Q9: 0 | R9: 0 | S9: =Q5 -> 0 | T9: =IF(AND(S9>=N9,S9<P9),(S9-N9)*Q9+R9,0) -> 0 | U9: =IF(AND(U5>=R9,U5<R10),(U5-R9)/Q9+N9,0) -> 0
M10: 2 | N10: =P9 -> 600000 | O10: TO | P10: 800000 | Q10: 0.075 | S10: =Q5 -> 0 | T10: =IF(AND(S10>=N10,S10<P10),(S10-N10)*Q10+R10,0) -> 0 | U10: =IF(AND(U5>=R10,U5<R11),(U5-R10)/Q10+N10,0) -> 0
M11: 3 | N11: =P10 -> 800000 | O11: TO | P11: 1200000 | Q11: 0.15 | R11: =R10 + (P10-P9) *Q10 -> 15000 | S11: =Q5 -> 0 | T11: =IF(AND(S11>=N11,S11<P11),(S11-N11)*Q11+R11,0) -> 0 | U11: =IF(AND(U5>=R11,U5<R12),(U5-R11)/Q11+N11,0) -> 0
M12: 4 | N12: =P11 -> 1200000 | O12: TO | P12: 2400000 | Q12: 0.2 | R12: =R11 + (P11-P10) *Q11 -> 75000 | S12: =Q5 -> 0 | T12: =IF(AND(S12>=N12,S12<P12),(S12-N12)*Q12+R12,0) -> 0 | U12: =IF(AND(U5>=R12,U5<R13),(U5-R12)/Q12+N12,0) -> 0
M13: 5 | N13: =P12 -> 2400000 | O13: TO | P13: 3000000 | Q13: 0.25 | R13: =R12 + (P12-P11) *Q12 -> 315000 | S13: =Q5 -> 0 | T13: =IF(AND(S13>=N13,S13<P13),(S13-N13)*Q13+R13,0) -> 0 | U13: =IF(AND(U5>=R13,U5<R14),(U5-R13)/Q13+N13,0) -> 0
M14: 6 | N14: =P13 -> 3000000 | O14: TO | P14: 4000000 | Q14: 0.3 | R14: =R13 + (P13-P12) *Q13 -> 465000 | S14: =Q5 -> 0 | T14: =IF(AND(S14>=N14,S14<P14),(S14-N14)*Q14+R14,0) -> 0 | U14: =IF(AND(U5>=R14,U5<R15),(U5-R14)/Q14+N14,0) -> 0
M15: 7 | N15: =P14 -> 4000000 | O15: TO | P15: 999999999999999 | Q15: 0.35 | R15: =R14 + (P14-P13) *Q14 -> 765000 | S15: =Q5 -> 0 | T15: =IF(AND(S15>=N15,S15<P15),(S15-N15)*Q15+R15,0) -> 0 | U15: =IF(AND(U5>=R15,U5<R16),(U5-R15)/Q15+N15,0) -> 0
P16: 999999999999999 | R16: 999999999999999 | S16: =Q5 -> 0 | T16: 0 | U16: =IF(AND(U5>=R16,U5<R17),(U5-R16)/Q16+N16,0) -> 0
O23: Tax Liability Annual | S23: =SUBTOTAL(109,T9:T22) -> 0 | U23: =SUBTOTAL(109,U9:U22) -> 0
B27: TAXABLE INCOME | C27: NORMAL INCOME TAX | D27: TOTAL RECEIPTS | E27: TAXED SUPPLIES/ IMPORT/ SERVICES | F27: TAXED DEDUCTED | G27: Attributable Taxable Income | H27: Tax on Attributable Taxable Income | I27: MINIMUM TAX / TAX PAYABLE | K27: =IF(M27>F27,(M27-F27),0) -> 0
A28: Import u/s 148 @1% | B28: =IF(E28>0,$Q$5,0) -> 0 | C28: =IF(E28>0,$Q$6,0) -> 0 | D28: =IF(E28>0,'Work Sheet'!$D$2,0) -> 0 | E28: ='IND (BUS PLUS)'!F83 -> 0 | F28: ='IND (BUS PLUS)'!G83 -> 0 | G28: =IF(B28>0,(B28/D28)*E28,0) -> 0 | H28: =IF(C28>0,C28/D28*E28,0) -> 0 | I28: =IF(H28>=F28,"0",(F28-H28))+K28 -> 0 | K28: =M28-F28 -> 0 | M28: =E28*N28 -> 0 | N28: 0.01
A29: Import u/s 148 @2% | B29: =IF(E29>0,$Q$5,0) -> 0 | C29: =IF(E29>0,$Q$6,0) -> 0 | D29: =IF(E29>0,'Work Sheet'!$D$2,0) -> 0 | E29: ='IND (BUS PLUS)'!F84 -> 0 | F29: ='IND (BUS PLUS)'!G84 -> 0 | G29: =IF(B29>0,B29/D29*E29,0) -> 0 | H29: =IF(C29>0,C29/D29*E29,0) -> 0 | I29: =IF(H29>=F29,"0",(F29-H29))+K29 -> 0 | K29: =M29-F29 -> 0 | M29: =E29*N29 -> 0 | N29: 0.02
A30: Import u/s 148 @3% | B30: =IF(E30>0,$Q$5,0) -> 0 | C30: =IF(E30>0,$Q$6,0) -> 0 | D30: =IF(E30>0,'Work Sheet'!$D$2,0) -> 0 | E30: ='IND (BUS PLUS)'!F85 -> 0 | F30: ='IND (BUS PLUS)'!G85 -> 0 | G30: =IF(B30>0,B30/D30*E30,0) -> 0 | H30: =IF(C30>0,C30/D30*E30,0) -> 0 | I30: =IF(H30>=F30,"0",(F30-H30))+K30 -> 0 | K30: =M30-F30 -> 0 | M30: =E30*N30 -> 0 | N30: 0.03
A31: Import u/s 148 @3.5% | B31: =IF(E31>0,$Q$5,0) -> 0 | C31: =IF(E31>0,$Q$6,0) -> 0 | D31: =IF(E31>0,'Work Sheet'!$D$2,0) -> 0 | E31: ='IND (BUS PLUS)'!F86 -> 0 | F31: ='IND (BUS PLUS)'!G86 -> 0 | G31: =IF(B31>0,B31/D31*E31,0) -> 0 | H31: =IF(C31>0,C31/D31*E31,0) -> 0 | I31: =IF(H31>=F31,"0",(F31-H31))+K31 -> 0 | K31: =M31-F31 -> 0 | M31: =E31*N31 -> 0 | N31: 0.035
A32: Import u/s 148 @4% | B32: =IF(E32>0,$Q$5,0) -> 0 | C32: =IF(E32>0,$Q$6,0) -> 0 | D32: =IF(E32>0,'Work Sheet'!$D$2,0) -> 0 | E32: ='IND (BUS PLUS)'!F87 -> 0 | F32: ='IND (BUS PLUS)'!G87 -> 0 | G32: =IF(B32>0,B32/D32*E32,0) -> 0 | H32: =IF(C32>0,C32/D32*E32,0) -> 0 | I32: =IF(H32>=F32,"0",(F32-H32))+K32 -> 0 | K32: =M32-F32 -> 0 | M32: =E32*N32 -> 0 | N32: 0.04
A33: Import u/s 148 @4.5% | B33: 0 | C33: =IF(E33>0,$Q$6,0) -> 0 | D33: =IF(E33>0,'Work Sheet'!$D$2,0) -> 0 | E33: 0 | F33: 0 | G33: =IF(B33>0,B33/D33*E33,0) -> 0 | H33: =IF(C33>0,C33/D33*E33,0) -> 0 | I33: =IF(H33>=F33,"0",(F33-H33))+K33 -> 0 | K33: =M33-F33 -> 0 | M33: =E33*N33 -> 0 | N33: 0.045
A34: Import u/s 148 @6% | B34: =IF(E34>0,$Q$5,0) -> 0 | C34: =IF(E34>0,$Q$6,0) -> 0 | D34: =IF(E34>0,'Work Sheet'!$D$2,0) -> 0 | E34: 0 | F34: 0 | G34: =IF(B34>0,B34/D34*E34,0) -> 0 | H34: =IF(C34>0,C34/D34*E34,0) -> 0 | I34: =IF(H34>=F34,"0",(F34-H34))+K34 -> 0 | K34: =M34-F34 -> 0 | M34: =E34*N34 -> 0 | N34: 0.06
A35: Import u/s 148 @1.75% | B35: =IF(E35>0,$Q$5,0) -> 0 | C35: =IF(E35>0,$Q$6,0) -> 0 | D35: =IF(E35>0,'Work Sheet'!$D$2,0) -> 0 | E35: 0 | F35: 0 | G35: =IF(B35>0,B35/D35*E35,0) -> 0 | H35: =IF(C35>0,C35/D35*E35,0) -> 0 | I35: =IF(H35>=F35,"0",(F35-H35))+K35 -> 0 | K35: =M35-F35 -> 0 | M35: =E35*N35 -> 0 | N35: 0.0175
A36: Import u/s 148 @2.75% | B36: =IF(E36>0,$Q$5,0) -> 0 | C36: =IF(E36>0,$Q$6,0) -> 0 | D36: =IF(E36>0,'Work Sheet'!$D$2,0) -> 0 | E36: 0 | F36: 0 | G36: =IF(B36>0,B36/D36*E36,0) -> 0 | H36: =IF(C36>0,C36/D36*E36,0) -> 0 | I36: =IF(H36>=F36,"0",(F36-H36))+K36 -> 0 | K36: =M36-F36 -> 0 | M36: =E36*N36 -> 0 | N36: 0.0275
A37: Import u/s 148 @4.125% | B37: =IF(E37>0,$Q$5,0) -> 0 | C37: =IF(E37>0,$Q$6,0) -> 0 | D37: =IF(E37>0,'Work Sheet'!$D$2,0) -> 0 | E37: 0 | F37: 0 | G37: =IF(B37>0,B37/D37*E37,0) -> 0 | H37: =IF(C37>0,C37/D37*E37,0) -> 0 | I37: =IF(H37>=F37,"0",(F37-H37))+K37 -> 0 | K37: =M37-F37 -> 0 | M37: =E37*N37 -> 0 | N37: 0.04125
A38: Import of Packing Material u/s 148 @5.5% | B38: =IF(E38>0,$Q$5,0) -> 0 | C38: =IF(E38>0,$Q$6,0) -> 0 | D38: =IF(E38>0,'Work Sheet'!$D$2,0) -> 0 | E38: ='IND (BUS PLUS)'!F89 -> 0 | F38: ='IND (BUS PLUS)'!G88 -> 0 | G38: =IF(B38>0,B38/D38*E38,0) -> 0 | H38: =IF(C38>0,C38/D38*E38,0) -> 0 | I38: =IF(H38>=F38,"0",(F38-H38))+K38 -> 0 | K38: =M38-F38 -> 0 | M38: =E38*N38 -> 0 | N38: 0.055
A39: Payment for Contracts for Construction, Assembly or Installation to a Non-Resident u/s 152(1A)(a) / Division II, Part III, 1st Schedule | B39: =IF(E39>0,$Q$5,0) -> 0 | C39: =IF(E39>0,$Q$6,0) -> 0 | D39: =IF(E39>0,'Work Sheet'!$D$2,0) -> 0 | E39: ='IND (BUS PLUS)'!F98 -> 0 | F39: ='IND (BUS PLUS)'!G98 -> 0 | G39: =IF(B39>0,B39/D39*E39,0) -> 0 | H39: =IF(C39>0,C39/D39*E39,0) -> 0 | I39: =IF(H39>=F39,"0",(F39-H39))+K39 -> 0 | K39: =M39-F39 -> 0 | M39: =E39*N39 -> 0
A40: Payment for Services, Contracts to a Non-Resident u/s 152(1A)(b) / Division II, Part III, 1st Schedule | B40: =IF(E40>0,$Q$5,0) -> 0 | C40: =IF(E40>0,$Q$6,0) -> 0 | D40: =IF(E40>0,'Work Sheet'!$D$2,0) -> 0 | E40: ='IND (BUS PLUS)'!F99 -> 0 | F40: ='IND (BUS PLUS)'!G99 -> 0 | G40: =IF(B40>0,B40/D40*E40,0) -> 0 | H40: =IF(C40>0,C40/D40*E40,0) -> 0 | I40: =IF(H40>=F40,"0",(F40-H40))+K40 -> 0 | K40: =M40-F40 -> 0 | M40: =E40*N40 -> 0
A41: Fee for Advertisement Services to a Non-Resident u/s 152(1A)(c) / Division II, Part III, 1st Schedule | B41: =IF(E41>0,$Q$5,0) -> 0 | C41: =IF(E41>0,$Q$6,0) -> 0 | D41: =IF(E41>0,'Work Sheet'!$D$2,0) -> 0 | E41: ='IND (BUS PLUS)'!F100 -> 0 | F41: ='IND (BUS PLUS)'!G100 -> 0 | G41: =IF(B41>0,B41/D41*E41,0) -> 0 | H41: =IF(C41>0,C41/D41*E41,0) -> 0 | I41: =IF(H41>=F41,"0",(F41-H41))+K41 -> 0 | K41: =M41-F41 -> 0 | M41: =E41*N41 -> 0
A42: Insurance / Reinsurance Premium to a Non-Resident u/s 152(1AA) / Division II, Part III, 1st Schedule | B42: =IF(E42>0,$Q$5,0) -> 0 | C42: =IF(E42>0,$Q$6,0) -> 0 | D42: =IF(E42>0,'Work Sheet'!$D$2,0) -> 0 | E42: ='IND (BUS PLUS)'!F101 -> 0 | F42: ='IND (BUS PLUS)'!G101 -> 0 | G42: =IF(B42>0,B42/D42*E42,0) -> 0 | H42: =IF(C42>0,C42/D42*E42,0) -> 0 | I42: =IF(H42>=F42,"0",(F42-H42))+K42 -> 0 | K42: =M42-F42 -> 0 | M42: =E42*N42 -> 0
A43: Payment for Goods u/s 153(1)(a) @1% | B43: =IF(E43>0,$Q$5,0) -> 0 | C43: =IF(E43>0,$Q$6,0) -> 0 | D43: =IF(E43>0,'Work Sheet'!$D$2,0) -> 0 | E43: ='IND (BUS PLUS)'!F110 -> 0 | F43: ='IND (BUS PLUS)'!G110 -> 0 | G43: =IF(B43>0,B43/D43*E43,0) -> 0 | H43: =IF(C43>0,C43/D43*E43,0) -> 0 | I43: =IF(H43>=F43,"0",(F43-H43))+K43 -> 0 | K43: =M43-F43 -> 0 | M43: =E43*N43 -> 0 | N43: 0.01
A44: Payment for Goods u/s 153(1)(a) @1.5% | B44: =IF(E44>0,$Q$5,0) -> 0 | C44: =IF(E44>0,$Q$6,0) -> 0 | D44: =IF(E44>0,'Work Sheet'!$D$2,0) -> 0 | E44: ='IND (BUS PLUS)'!F111 -> 0 | F44: ='IND (BUS PLUS)'!G111 -> 0 | G44: =IF(B44>0,B44/D44*E44,0) -> 0 | H44: =IF(C44>0,C44/D44*E44,0) -> 0 | I44: =IF(H44>=F44,"0",(F44-H44))+K44 -> 0 | K44: =M44-F44 -> 0 | M44: =E44*N44 -> 0 | N44: 0.015
A45: Payment for goods u/s 153(1)(a) @ 2.5% | B45: =IF(E45>0,$Q$5,0) -> 0 | C45: =IF(E45>0,$Q$6,0) -> 0 | D45: =IF(E45>0,'Work Sheet'!$D$2,0) -> 0 | E45: ='IND (BUS PLUS)'!F112 -> 0 | F45: ='IND (BUS PLUS)'!G112 -> 0 | G45: =IF(B45>0,B45/D45*E45,0) -> 0 | H45: =IF(C45>0,C45/D45*E45,0) -> 0 | I45: =IF(H45>=F45,"0",(F45-H45))+K45 -> 0 | K45: =M45-F45 -> 0 | M45: =E45*N45 -> 0 | N45: 0.025
A46: Payment for Goods u/s 153(1)(a) @5.5% | B46: =IF(E46>0,$Q$5,0) -> 0 | C46: =IF(E46>0,$Q$6,0) -> 0 | D46: =IF(E46>0,'Work Sheet'!$D$2,0) -> 0 | E46: ='IND (BUS PLUS)'!F113 -> 0 | F46: ='IND (BUS PLUS)'!G113 -> 0 | G46: =IF(B46>0,B46/D46*E46,0) -> 0 | H46: =IF(C46>0,C46/D46*E46,0) -> 0 | I46: =IF(H46>=F46,"0",(F46-H46))+K46 -> 0 | K46: =M46-F46 -> 0 | M46: =E46*N46 -> 0 | N46: 0.055
A47: Payment for Services u/s 153(1)(b) @1% | B47: =IF(E47>0,$Q$5,0) -> 0 | C47: =IF(E47>0,$Q$6,0) -> 0 | D47: =IF(E47>0,'Work Sheet'!$D$2,0) -> 0 | E47: ='IND (BUS PLUS)'!F114 -> 0 | F47: ='IND (BUS PLUS)'!G114 -> 0 | G47: =IF(B47>0,B47/D47*E47,0) -> 0 | H47: =IF(C47>0,C47/D47*E47,0) -> 0 | I47: =IF(H47>=F47,"0",(F47-H47))+K47 -> 0 | K47: =M47-F47 -> 0 | M47: =E47*N47 -> 0 | N47: 0.01
A48: Payment for services u/s 153(1)(b) @ 1.5% | B48: =IF(E48>0,$Q$5,0) -> 0 | C48: =IF(E48>0,$Q$6,0) -> 0 | D48: =IF(E48>0,'Work Sheet'!$D$2,0) -> 0 | E48: ='IND (BUS PLUS)'!F115 -> 0 | F48: ='IND (BUS PLUS)'!G115 -> 0 | G48: =IF(B48>0,B48/D48*E48,0) -> 0 | H48: =IF(C48>0,C48/D48*E48,0) -> 0 | I48: =IF(H48>=F48,"0",(F48-H48))+K48 -> 0 | K48: =M48-F48 -> 0 | M48: =E48*N48 -> 0 | N48: 0.015
A49: Payment for Services u/s 153(1)(b) @2% | B49: =IF(E49>0,$Q$5,0) -> 0 | C49: =IF(E49>0,$Q$6,0) -> 0 | D49: =IF(E49>0,'Work Sheet'!$D$2,0) -> 0 | E49: ='IND (BUS PLUS)'!F116 -> 0 | F49: ='IND (BUS PLUS)'!G116 -> 0 | G49: =IF(B49>0,B49/D49*E49,0) -> 0 | H49: =IF(C49>0,C49/D49*E49,0) -> 0 | I49: =IF(H49>=F49,"0",(F49-H49))+K49 -> 0 | K49: =M49-F49 -> 0 | M49: =E49*N49 -> 0 | N49: 0.02
A50: Payment for Services u/s 153(1)(b) @10% | B50: =IF(E50>0,$Q$5,0) -> 0 | C50: =IF(E50>0,$Q$6,0) -> 0 | D50: =IF(E50>0,'Work Sheet'!$D$2,0) -> 0 | E50: ='IND (BUS PLUS)'!F117 -> 0 | F50: ='IND (BUS PLUS)'!G117 -> 0 | G50: =IF(B50>0,B50/D50*E50,0) -> 0 | H50: =IF(C50>0,C50/D50*E50,0) -> 0 | I50: =IF(H50>=F50,"0",(F50-H50))+K50 -> 0 | K50: =M50-F50 -> 0 | M50: =E50*N50 -> 0 | N50: 0.1
A51: Receipts from Contracts u/s 153(1)(c) @8% | B51: =IF(E51>0,$Q$5,0) -> 0 | C51: =IF(E51>0,$Q$6,0) -> 0 | D51: =IF(E51>0,'Work Sheet'!$D$2,0) -> 0 | E51: ='IND (BUS PLUS)'!F118 -> 0 | F51: ='IND (BUS PLUS)'!G118 -> 0 | G51: =IF(B51>0,B51/D51*E51,0) -> 0 | H51: =IF(C51>0,C51/D51*E51,0) -> 0 | I51: =IF(H51>=F51,"0",(F51-H51))+K51 -> 0 | K51: =M51-F51 -> 0 | M51: =E51*N51 -> 0 | N51: 0.08
A52: Receipts from Contracts u/s 153(1)(c) @10% | B52: =IF(E52>0,$Q$5,0) -> 0 | C52: =IF(E52>0,$Q$6,0) -> 0 | D52: =IF(E52>0,'Work Sheet'!$D$2,0) -> 0 | E52: ='IND (BUS PLUS)'!F119 -> 0 | F52: ='IND (BUS PLUS)'!G119 -> 0 | G52: =IF(B52>0,B52/D52*E52,0) -> 0 | H52: =IF(C52>0,C52/D52*E52,0) -> 0 | I52: =IF(H52>=F52,"0",(F52-H52))+K52 -> 0 | K52: =M52-F52 -> 0 | M52: =E52*N52 -> 0 | N52: 0.1
A53: Fee for Export related Services u/s 153(2) @1% | B53: =IF(E53>0,$Q$5,0) -> 0 | C53: =IF(E53>0,$Q$6,0) -> 0 | D53: =IF(E53>0,'Work Sheet'!$D$2,0) -> 0 | E53: ='IND (BUS PLUS)'!F120 -> 0 | F53: ='IND (BUS PLUS)'!G120 -> 0 | G53: =IF(B53>0,B53/D53*E53,0) -> 0 | H53: =IF(C53>0,C53/D53*E53,0) -> 0 | I53: =IF(H53>=F53,"0",(F53-H53))+K53 -> 0 | K53: =M53-F53 -> 0 | M53: =E53*N53 -> 0 | N53: 0.01
...

Sheet ELEC (COMM)
A2: WORKING FOR K-ELECTRIC (COMMERCIAL CONNECTIONS)
A4: If you have the K-Electric Tax Certificate then this work sheet is useful to calculate the bill amount
AJ5: TVL FEE | AP5: 60
A8: Elec. / Tel. No. | Q8: Elec. / Tel. No.
A10: Consumer Name: | Q10: Consumer Name:
A12: DATE | C12: BILL AMOUNT | H12: TAX | L12: NET | Q12: DATE | S12: BILL AMOUNT | X12: TAX | AB12: NET
A14: 45108 | C14: =IF(AND(AP14>0),(H14+$AP$5+AP14),0) -> 0 | L14: =C14-H14 -> 0 | Q14: =A14 -> 45108 | S14: =IF(AND(AQ14>0),(X14+$AP$5+AQ14),0) -> 0 | AB14: =S14-X14 -> 0 | AP14: =IF(AND(H14>0,H14<1950),(H14/10%)+500,0)+IF(AND(H14>=1950,H14<999999999999999),(H14/12%)+20000,0) -> 0 | AQ14: =IF(AND(X14>0,X14<1950),(X14/10%)+500,0)+IF(AND(X14>=1950,X14<999999999999999),(X14/12%)+20000,0) -> 0
A15: 45139 | C15: =IF(AND(AP15>0),(H15+$AP$5+AP15),0) -> 0 | L15: =C15-H15 -> 0 | Q15: =A15 -> 45139 | S15: =IF(AND(AQ15>0),(X15+$AP$5+AQ15),0) -> 0 | AB15: =S15-X15 -> 0 | AP15: =IF(AND(H15>0,H15<1950),(H15/10%)+500,0)+IF(AND(H15>=1950,H15<999999999999999),(H15/12%)+20000,0) -> 0 | AQ15: =IF(AND(X15>0,X15<1950),(X15/10%)+500,0)+IF(AND(X15>=1950,X15<999999999999999),(X15/12%)+20000,0) -> 0
A16: 45170 | C16: =IF(AND(AP16>0),(H16+$AP$5+AP16),0) -> 0 | L16: =C16-H16 -> 0 | Q16: =A16 -> 45170 | S16: =IF(AND(AQ16>0),(X16+$AP$5+AQ16),0) -> 0 | AB16: =S16-X16 -> 0 | AP16: =IF(AND(H16>0,H16<1950),(H16/10%)+500,0)+IF(AND(H16>=1950,H16<999999999999999),(H16/12%)+20000,0) -> 0 | AQ16: =IF(AND(X16>0,X16<1950),(X16/10%)+500,0)+IF(AND(X16>=1950,X16<999999999999999),(X16/12%)+20000,0) -> 0
A17: 45200 | C17: =IF(AND(AP17>0),(H17+$AP$5+AP17),0) -> 0 | L17: =C17-H17 -> 0 | Q17: =A17 -> 45200 | S17: =IF(AND(AQ17>0),(X17+$AP$5+AQ17),0) -> 0 | AB17: =S17-X17 -> 0 | AP17: =IF(AND(H17>0,H17<1950),(H17/10%)+500,0)+IF(AND(H17>=1950,H17<999999999999999),(H17/12%)+20000,0) -> 0 | AQ17: =IF(AND(X17>0,X17<1950),(X17/10%)+500,0)+IF(AND(X17>=1950,X17<999999999999999),(X17/12%)+20000,0) -> 0
A18: 45231 | C18: =IF(AND(AP18>0),(H18+$AP$5+AP18),0) -> 0 | L18: =C18-H18 -> 0 | Q18: =A18 -> 45231 | S18: =IF(AND(AQ18>0),(X18+$AP$5+AQ18),0) -> 0 | AB18: =S18-X18 -> 0 | AP18: =IF(AND(H18>0,H18<1950),(H18/10%)+500,0)+IF(AND(H18>=1950,H18<999999999999999),(H18/12%)+20000,0) -> 0 | AQ18: =IF(AND(X18>0,X18<1950),(X18/10%)+500,0)+IF(AND(X18>=1950,X18<999999999999999),(X18/12%)+20000,0) -> 0
A19: 45261 | C19: =IF(AND(AP19>0),(H19+$AP$5+AP19),0) -> 0 | L19: =C19-H19 -> 0 | Q19: =A19 -> 45261 | S19: =IF(AND(AQ19>0),(X19+$AP$5+AQ19),0) -> 0 | AB19: =S19-X19 -> 0 | AP19: =IF(AND(H19>0,H19<1950),(H19/10%)+500,0)+IF(AND(H19>=1950,H19<999999999999999),(H19/12%)+20000,0) -> 0 | AQ19: =IF(AND(X19>0,X19<1950),(X19/10%)+500,0)+IF(AND(X19>=1950,X19<999999999999999),(X19/12%)+20000,0) -> 0
A20: 45292 | C20: =IF(AND(AP20>0),(H20+$AP$5+AP20),0) -> 0 | L20: =C20-H20 -> 0 | Q20: =A20 -> 45292 | S20: =IF(AND(AQ20>0),(X20+$AP$5+AQ20),0) -> 0 | AB20: =S20-X20 -> 0 | AP20: =IF(AND(H20>0,H20<1950),(H20/10%)+500,0)+IF(AND(H20>=1950,H20<999999999999999),(H20/12%)+20000,0) -> 0 | AQ20: =IF(AND(X20>0,X20<1950),(X20/10%)+500,0)+IF(AND(X20>=1950,X20<999999999999999),(X20/12%)+20000,0) -> 0
A21: 45323 | C21: =IF(AND(AP21>0),(H21+$AP$5+AP21),0) -> 0 | L21: =C21-H21 -> 0 | Q21: =A21 -> 45323 | S21: =IF(AND(AQ21>0),(X21+$AP$5+AQ21),0) -> 0 | AB21: =S21-X21 -> 0 | AP21: =IF(AND(H21>0,H21<1950),(H21/10%)+500,0)+IF(AND(H21>=1950,H21<999999999999999),(H21/12%)+20000,0) -> 0 | AQ21: =IF(AND(X21>0,X21<1950),(X21/10%)+500,0)+IF(AND(X21>=1950,X21<999999999999999),(X21/12%)+20000,0) -> 0
A22: 45352 | C22: =IF(AND(AP22>0),(H22+$AP$5+AP22),0) -> 0 | L22: =C22-H22 -> 0 | Q22: =A22 -> 45352 | S22: =IF(AND(AQ22>0),(X22+$AP$5+AQ22),0) -> 0 | AB22: =S22-X22 -> 0 | AP22: =IF(AND(H22>0,H22<1950),(H22/10%)+500,0)+IF(AND(H22>=1950,H22<999999999999999),(H22/12%)+20000,0) -> 0 | AQ22: =IF(AND(X22>0,X22<1950),(X22/10%)+500,0)+IF(AND(X22>=1950,X22<999999999999999),(X22/12%)+20000,0) -> 0
A23: 45383 | C23: =IF(AND(AP23>0),(H23+$AP$5+AP23),0) -> 0 | L23: =C23-H23 -> 0 | Q23: =A23 -> 45383 | S23: =IF(AND(AQ23>0),(X23+$AP$5+AQ23),0) -> 0 | AB23: =S23-X23 -> 0 | AP23: =IF(AND(H23>0,H23<1950),(H23/10%)+500,0)+IF(AND(H23>=1950,H23<999999999999999),(H23/12%)+20000,0) -> 0 | AQ23: =IF(AND(X23>0,X23<1950),(X23/10%)+500,0)+IF(AND(X23>=1950,X23<999999999999999),(X23/12%)+20000,0) -> 0
A24: 45413 | C24: =IF(AND(AP24>0),(H24+$AP$5+AP24),0) -> 0 | L24: =C24-H24 -> 0 | Q24: =A24 -> 45413 | S24: =IF(AND(AQ24>0),(X24+$AP$5+AQ24),0) -> 0 | AB24: =S24-X24 -> 0 | AP24: =IF(AND(H24>0,H24<1950),(H24/10%)+500,0)+IF(AND(H24>=1950,H24<999999999999999),(H24/12%)+20000,0) -> 0 | AQ24: =IF(AND(X24>0,X24<1950),(X24/10%)+500,0)+IF(AND(X24>=1950,X24<999999999999999),(X24/12%)+20000,0) -> 0
A25: 45444 | C25: =IF(AND(AP25>0),(H25+$AP$5+AP25),0) -> 0 | L25: =C25-H25 -> 0 | Q25: =A25 -> 45444 | S25: =IF(AND(AQ25>0),(X25+$AP$5+AQ25),0) -> 0 | AB25: =S25-X25 -> 0 | AP25: =IF(AND(H25>0,H25<1950),(H25/10%)+500,0)+IF(AND(H25>=1950,H25<999999999999999),(H25/12%)+20000,0) -> 0 | AQ25: =IF(AND(X25>0,X25<1950),(X25/10%)+500,0)+IF(AND(X25>=1950,X25<999999999999999),(X25/12%)+20000,0) -> 0
AP26: =IF(AND(H26>0,H26<1950),(H26/10%)+500,0)+IF(AND(H26>=1950,H26<999999999999999),(H26/12%)+20000,0) -> 0 | AQ26: =IF(AND(X26>0,X26<1950),(X26/10%)+500,0)+IF(AND(X26>=1950,X26<999999999999999),(X26/12%)+20000,0) -> 0
C27: =SUM(C14:F25) -> 0 | H27: =SUM(H14:J26) -> 0 | L27: =C27-H27 -> 0 | S27: =SUM(S14:V25) -> 0 | X27: =SUM(X14:Z26) -> 0 | AB27: =S27-X27 -> 0
